BEGIN:VCALENDAR
VERSION:2.0
PRODID:-//Grace Community - ECPv6.15.20//NONSGML v1.0//EN
CALSCALE:GREGORIAN
METHOD:PUBLISH
X-WR-CALNAME:Grace Community
X-ORIGINAL-URL:https://gracecommunity.org.au
X-WR-CALDESC:Events for Grace Community
REFRESH-INTERVAL;VALUE=DURATION:PT1H
X-Robots-Tag:noindex
X-PUBLISHED-TTL:PT1H
BEGIN:VTIMEZONE
TZID:Australia/Perth
BEGIN:STANDARD
TZOFFSETFROM:+0800
TZOFFSETTO:+0800
TZNAME:AWST
DTSTART:20240101T000000
END:STANDARD
END:VTIMEZONE
BEGIN:VEVENT
DTSTART;TZID=Australia/Perth:20250704T190000
DTEND;TZID=Australia/Perth:20250704T210000
DTSTAMP:20260422T005506
CREATED:20250424T040356Z
LAST-MODIFIED:20250424T071145Z
UID:10000204-1751655600-1751662800@gracecommunity.org.au
SUMMARY:Grace Community Youth Term 2
DESCRIPTION:Join us on Friday nights from 7-9pm during the term if you’re in high school.  \nFor more information or to register go to Grace Community Youth.
URL:https://gracecommunity.org.au/event/grace-community-youth-term-2/2025-07-04/
LOCATION:Grace Community Church\, 5 Glenelg Pl\, Connolly\, WA\, 6027\, Australia
CATEGORIES:Youth Group
ATTACH;FMTTYPE=image/jpeg:https://gracecommunity.org.au/wp-content/uploads/2025/01/Gcy-term-2-2025.jpg
ORGANIZER;CN="Grace Community":MAILTO:admin@gracecommunity.org.au
END:VEVENT
END:VCALENDAR