BEGIN:VCALENDAR
VERSION:2.0
PRODID:-//Grace Community - ECPv6.15.20//NONSGML v1.0//EN
CALSCALE:GREGORIAN
METHOD:PUBLISH
X-WR-CALNAME:Grace Community
X-ORIGINAL-URL:https://gracecommunity.org.au
X-WR-CALDESC:Events for Grace Community
REFRESH-INTERVAL;VALUE=DURATION:PT1H
X-Robots-Tag:noindex
X-PUBLISHED-TTL:PT1H
BEGIN:VTIMEZONE
TZID:Australia/Perth
BEGIN:STANDARD
TZOFFSETFROM:+0800
TZOFFSETTO:+0800
TZNAME:AWST
DTSTART:20250101T000000
END:STANDARD
END:VTIMEZONE
BEGIN:VEVENT
DTSTART;TZID=Australia/Perth:20261031T081500
DTEND;TZID=Australia/Perth:20261031T090000
DTSTAMP:20260421T192946
CREATED:20260108T002518Z
LAST-MODIFIED:20260108T002548Z
UID:10000948-1793434500-1793437200@gracecommunity.org.au
SUMMARY:Monthly Prayer Meeting
DESCRIPTION:The most important part of any ministry in the church is prayer. A healthy church is a praying church. Join fellow members of the church as we pray for the church\, the needs of our members and for missions we support.\n \nIf you would like to be a part of a prayer meeting or if you have a prayer request email prayer@gracecommunity.org.au.
URL:https://gracecommunity.org.au/event/monthly-prayer-meeting-12/
LOCATION:Grace Community Church\, 5 Glenelg Pl\, Connolly\, WA\, 6027\, Australia
CATEGORIES:Prayer
ATTACH;FMTTYPE=image/png:https://gracecommunity.org.au/wp-content/uploads/2025/08/Prayer-meeting-Facebook-Post.png
ORGANIZER;CN="Grace Community":MAILTO:admin@gracecommunity.org.au
END:VEVENT
BEGIN:VEVENT
DTSTART;TZID=Australia/Perth:20261128T081500
DTEND;TZID=Australia/Perth:20261128T090000
DTSTAMP:20260421T192946
CREATED:20260108T002603Z
LAST-MODIFIED:20260108T002603Z
UID:10000949-1795853700-1795856400@gracecommunity.org.au
SUMMARY:Monthly Prayer Meeting
DESCRIPTION:The most important part of any ministry in the church is prayer. A healthy church is a praying church. Join fellow members of the church as we pray for the church\, the needs of our members and for missions we support.\n \nIf you would like to be a part of a prayer meeting or if you have a prayer request email prayer@gracecommunity.org.au.
URL:https://gracecommunity.org.au/event/monthly-prayer-meeting-13/
LOCATION:Grace Community Church\, 5 Glenelg Pl\, Connolly\, WA\, 6027\, Australia
CATEGORIES:Prayer
ATTACH;FMTTYPE=image/png:https://gracecommunity.org.au/wp-content/uploads/2025/08/Prayer-meeting-Facebook-Post.png
ORGANIZER;CN="Grace Community":MAILTO:admin@gracecommunity.org.au
END:VEVENT
BEGIN:VEVENT
DTSTART;TZID=Australia/Perth:20261226T081500
DTEND;TZID=Australia/Perth:20261226T090000
DTSTAMP:20260421T192946
CREATED:20260108T002624Z
LAST-MODIFIED:20260205T043833Z
UID:10000950-1798272900-1798275600@gracecommunity.org.au
SUMMARY:Monthly Prayer Meeting
DESCRIPTION:The most important part of any ministry in the church is prayer. A healthy church is a praying church. Join fellow members of the church as we pray for the church\, the needs of our members and for missions we support.\n \nIf you would like to be a part of a prayer meeting or if you have a prayer request email prayer@gracecommunity.org.au.
URL:https://gracecommunity.org.au/event/monthly-prayer-meeting-14/
LOCATION:Grace Community Church\, 5 Glenelg Pl\, Connolly\, WA\, 6027\, Australia
CATEGORIES:Prayer
ATTACH;FMTTYPE=image/png:https://gracecommunity.org.au/wp-content/uploads/2025/08/Prayer-meeting-Facebook-Post.png
ORGANIZER;CN="Grace Community":MAILTO:admin@gracecommunity.org.au
END:VEVENT
END:VCALENDAR