BEGIN:VCALENDAR
VERSION:2.0
PRODID:-//Grace Community - ECPv6.15.20//NONSGML v1.0//EN
CALSCALE:GREGORIAN
METHOD:PUBLISH
X-WR-CALNAME:Grace Community
X-ORIGINAL-URL:https://gracecommunity.org.au
X-WR-CALDESC:Events for Grace Community
REFRESH-INTERVAL;VALUE=DURATION:PT1H
X-Robots-Tag:noindex
X-PUBLISHED-TTL:PT1H
BEGIN:VTIMEZONE
TZID:Australia/Perth
BEGIN:STANDARD
TZOFFSETFROM:+0800
TZOFFSETTO:+0800
TZNAME:AWST
DTSTART:20240101T000000
END:STANDARD
END:VTIMEZONE
BEGIN:VEVENT
DTSTART;TZID=Australia/Perth:20251123T110000
DTEND;TZID=Australia/Perth:20251123T123000
DTSTAMP:20260421T221604
CREATED:20250827T112258Z
LAST-MODIFIED:20250827T112347Z
UID:10000646-1763895600-1763901000@gracecommunity.org.au
SUMMARY:Church AGM
DESCRIPTION:Hear what is happening in our Church at our Annual General Meeting. \nSunday 23 November 2025 immediately after the church service. \nAll are welcome and a light lunch will be served at the end.
URL:https://gracecommunity.org.au/event/church-agm/
LOCATION:Grace Community Church\, 5 Glenelg Pl\, Connolly\, WA\, 6027\, Australia
ATTACH;FMTTYPE=image/png:https://gracecommunity.org.au/wp-content/uploads/2025/08/Church-AGM-Facebook.png
END:VEVENT
BEGIN:VEVENT
DTSTART;TZID=Australia/Perth:20251121T190000
DTEND;TZID=Australia/Perth:20251121T210000
DTSTAMP:20260421T221604
CREATED:20251028T013010Z
LAST-MODIFIED:20251106T032539Z
UID:10000649-1763751600-1763758800@gracecommunity.org.au
SUMMARY:Youth Social - Progressive Dinner
DESCRIPTION:Bring your friends and join us on Friday 21 November for a Progressive Dinner where we will be going to various homes for each meal course ($10 per person).  We will be starting in Ridgewood at 7pm sharp and ending in Quinns Rocks.  Full addresses for pick up and drop off will be emailed once RSVP has taken place. \nRSVP is essential for catering purposes. \nIf you have any dietary requirements please email us on admin@gracecommunity.org.au
URL:https://gracecommunity.org.au/event/youth-social-progressive-dinner/
LOCATION:WA
ATTACH;FMTTYPE=image/png:https://gracecommunity.org.au/wp-content/uploads/2025/10/2.png
END:VEVENT
BEGIN:VEVENT
DTSTART;TZID=Australia/Perth:20251121T190000
DTEND;TZID=Australia/Perth:20251121T210000
DTSTAMP:20260421T221604
CREATED:20250424T042604Z
LAST-MODIFIED:20250424T081515Z
UID:10000401-1763751600-1763758800@gracecommunity.org.au
SUMMARY:Grace Community Youth Term 4
DESCRIPTION:Join us on Friday nights from 7-9pm during the term if you’re in high school.  \nFor more information or to register go to Grace Community Youth.
URL:https://gracecommunity.org.au/event/grace-community-youth-term-4/2025-11-21/
LOCATION:Grace Community Church\, 5 Glenelg Pl\, Connolly\, WA\, 6027\, Australia
CATEGORIES:Youth Group
ATTACH;FMTTYPE=image/jpeg:https://gracecommunity.org.au/wp-content/uploads/2025/01/Gcy-term-4-2025.jpg
ORGANIZER;CN="Grace Community":MAILTO:admin@gracecommunity.org.au
END:VEVENT
BEGIN:VEVENT
DTSTART;TZID=Australia/Perth:20251116T120000
DTEND;TZID=Australia/Perth:20251116T133000
DTSTAMP:20260421T221604
CREATED:20251028T004215Z
LAST-MODIFIED:20251028T004215Z
UID:10000648-1763294400-1763299800@gracecommunity.org.au
SUMMARY:Baptisms and Church Picnic
DESCRIPTION:Join us on Sunday Nov 16 immediately following our Sunday service (12:00pm) for baptisms at Mullaloo Beach\, followed by a picnic at Tom Simpson Park. Bring your own food/drinks\, picnic rug\, chairs\, etc and enjoy an afternoon of celebration as a church community. \n 
URL:https://gracecommunity.org.au/event/baptisms-and-church-picnic-2/
LOCATION:Mullaloo Beach\, Tom Simpson\, Mullaloo\, WA\, Australia
ATTACH;FMTTYPE=image/png:https://gracecommunity.org.au/wp-content/uploads/2025/10/Baptisms-and-Church-Picnic-Facebook-Post.png
ORGANIZER;CN="Grace Community":MAILTO:admin@gracecommunity.org.au
END:VEVENT
BEGIN:VEVENT
DTSTART;TZID=Australia/Perth:20251114T190000
DTEND;TZID=Australia/Perth:20251114T210000
DTSTAMP:20260421T221604
CREATED:20250424T041140Z
LAST-MODIFIED:20251113T031900Z
UID:10000193-1763146800-1763154000@gracecommunity.org.au
SUMMARY:Grace Community Youth Social Night
DESCRIPTION:This Friday GCY will be at the Moran’s home. Details will be emailed via the youth newsletter. If you do not receive the newsletter\, email Isaac at isaac@gracecommunity.org.au or contact us via the youth page: Grace Community Youth.
URL:https://gracecommunity.org.au/event/grace-community-youth-social-night-7/
LOCATION:WA
CATEGORIES:Youth Group
ATTACH;FMTTYPE=image/png:https://gracecommunity.org.au/wp-content/uploads/2025/04/GCY-is-at-the-Morans.png
ORGANIZER;CN="Grace Community":MAILTO:admin@gracecommunity.org.au
END:VEVENT
BEGIN:VEVENT
DTSTART;TZID=Australia/Perth:20251107T190000
DTEND;TZID=Australia/Perth:20251107T210000
DTSTAMP:20260421T221604
CREATED:20250424T042604Z
LAST-MODIFIED:20250424T081515Z
UID:10000400-1762542000-1762549200@gracecommunity.org.au
SUMMARY:Grace Community Youth Term 4
DESCRIPTION:Join us on Friday nights from 7-9pm during the term if you’re in high school.  \nFor more information or to register go to Grace Community Youth.
URL:https://gracecommunity.org.au/event/grace-community-youth-term-4/2025-11-07/
LOCATION:Grace Community Church\, 5 Glenelg Pl\, Connolly\, WA\, 6027\, Australia
CATEGORIES:Youth Group
ATTACH;FMTTYPE=image/jpeg:https://gracecommunity.org.au/wp-content/uploads/2025/01/Gcy-term-4-2025.jpg
ORGANIZER;CN="Grace Community":MAILTO:admin@gracecommunity.org.au
END:VEVENT
BEGIN:VEVENT
DTSTART;TZID=Australia/Perth:20251031T190000
DTEND;TZID=Australia/Perth:20251031T210000
DTSTAMP:20260421T221604
CREATED:20250424T042604Z
LAST-MODIFIED:20250424T081515Z
UID:10000399-1761937200-1761944400@gracecommunity.org.au
SUMMARY:Grace Community Youth Term 4
DESCRIPTION:Join us on Friday nights from 7-9pm during the term if you’re in high school.  \nFor more information or to register go to Grace Community Youth.
URL:https://gracecommunity.org.au/event/grace-community-youth-term-4/2025-10-31/
LOCATION:Grace Community Church\, 5 Glenelg Pl\, Connolly\, WA\, 6027\, Australia
CATEGORIES:Youth Group
ATTACH;FMTTYPE=image/jpeg:https://gracecommunity.org.au/wp-content/uploads/2025/01/Gcy-term-4-2025.jpg
ORGANIZER;CN="Grace Community":MAILTO:admin@gracecommunity.org.au
END:VEVENT
BEGIN:VEVENT
DTSTART;TZID=Australia/Perth:20251025T090000
DTEND;TZID=Australia/Perth:20251025T130000
DTSTAMP:20260421T221604
CREATED:20240905T114457Z
LAST-MODIFIED:20250830T060507Z
UID:10000065-1761382800-1761397200@gracecommunity.org.au
SUMMARY:Perth Women's Convention
DESCRIPTION:Perth Women’s Convention this year is on Saturday 25th October. 9am – 1pm at Faith Community Church in Willetton. Come and spend a morning packed full of encouragement as we hear from God’s Word in John 15. The morning includes Bible talks from Courtney Doctor as well as testimonies\, stories\, singing\, book reviews and prayer. More information and registration at pwc.ccowa.org. \n+ new optional afternoon seminar\n1PM – 3.30PM (lunch included)\nFaith Community Church\, Willetton\n‘Growing Together: Women helping women to grow in faith” \nDo you have a heart to encourage and disciple other women\, but are not sure where to start? Would you love to learn from the wisdom and example of someone further along the journey of following Christ? In God’s Word we hear Jesus call us to make disciples\, and we see that God gives us to one another for encouragement and building up. Join our speaker\, Courtney Doctor\, and friends\, for an afternoon of encouragement\, teaching and practical equipping as we explore the topic of discipleship together.  \nThis seminar is only available to those also attending the morning convention. If you would like to attend\, please select the additional ‘afternoon seminar’ option when you register. Limited places available! \n*Due to limited parking it is recommended that attendees carpool if possible. Please speak to Sarah if you are able to provide a lift or would like a lift to the convention.*
URL:https://gracecommunity.org.au/event/perth-womens-convention-2/
LOCATION:PWC\, 1 Todtiana Close\, Willetton\, WA\, 6155\, Australia
ATTACH;FMTTYPE=image/jpeg:https://gracecommunity.org.au/wp-content/uploads/2024/09/Perth-Womens-1.jpg
END:VEVENT
BEGIN:VEVENT
DTSTART;TZID=Australia/Perth:20251024T190000
DTEND;TZID=Australia/Perth:20251024T210000
DTSTAMP:20260421T221604
CREATED:20250424T042604Z
LAST-MODIFIED:20250424T081515Z
UID:10000398-1761332400-1761339600@gracecommunity.org.au
SUMMARY:Grace Community Youth Term 4
DESCRIPTION:Join us on Friday nights from 7-9pm during the term if you’re in high school.  \nFor more information or to register go to Grace Community Youth.
URL:https://gracecommunity.org.au/event/grace-community-youth-term-4/2025-10-24/
LOCATION:Grace Community Church\, 5 Glenelg Pl\, Connolly\, WA\, 6027\, Australia
CATEGORIES:Youth Group
ATTACH;FMTTYPE=image/jpeg:https://gracecommunity.org.au/wp-content/uploads/2025/01/Gcy-term-4-2025.jpg
ORGANIZER;CN="Grace Community":MAILTO:admin@gracecommunity.org.au
END:VEVENT
BEGIN:VEVENT
DTSTART;TZID=Australia/Perth:20251020T190000
DTEND;TZID=Australia/Perth:20251128T190000
DTSTAMP:20260421T221604
CREATED:20251104T034601Z
LAST-MODIFIED:20251104T034601Z
UID:10000660-1760986800-1764356400@gracecommunity.org.au
SUMMARY:Home Groups Term 4
DESCRIPTION:Grow in scriptural knowledge\, wisdom and Christian maturity by studying God’s word together. Develop lasting friendships as we journey through life together as interdependent members of the body of Christ. \nFor more information and to register your interest in joining one of our home groups see our Home Groups page.
URL:https://gracecommunity.org.au/event/home-groups-term-4/2025-10-20/
LOCATION:Grace Community Church\, 5 Glenelg Pl\, Connolly\, WA\, 6027\, Australia
CATEGORIES:Home Groups
ATTACH;FMTTYPE=image/png:https://gracecommunity.org.au/wp-content/uploads/2025/11/HOME-GROUPS.png
ORGANIZER;CN="Grace Community":MAILTO:admin@gracecommunity.org.au
END:VEVENT
BEGIN:VEVENT
DTSTART;TZID=Australia/Perth:20251019T103000
DTEND;TZID=Australia/Perth:20251019T140000
DTSTAMP:20260421T221604
CREATED:20250827T113236Z
LAST-MODIFIED:20250828T035601Z
UID:10000647-1760869800-1760882400@gracecommunity.org.au
SUMMARY:Church's 4th Anniversary
DESCRIPTION:It’s our 4th anniversary!!! \nJoin us on Sunday October 19th for our church service at 9.30am followed by a celebratory shared lunch as we reflect on the past four years and look forward in anticipation to the future of our church under God’s loving provision and guidance. Please RSVP so we have an indication of how many plan on attending and we would be very grateful if you could bring a dish of food to share for lunch after the church service. Dessert will be provided.
URL:https://gracecommunity.org.au/event/churchs-4th-anniversary/
LOCATION:Grace Community Church\, 5 Glenelg Pl\, Connolly\, WA\, 6027\, Australia
ATTACH;FMTTYPE=image/png:https://gracecommunity.org.au/wp-content/uploads/2025/08/4th-anniversary-Facebook-Post.png
END:VEVENT
BEGIN:VEVENT
DTSTART;TZID=Australia/Perth:20251017T190000
DTEND;TZID=Australia/Perth:20251017T210000
DTSTAMP:20260421T221604
CREATED:20250424T042604Z
LAST-MODIFIED:20250424T081515Z
UID:10000197-1760727600-1760734800@gracecommunity.org.au
SUMMARY:Grace Community Youth Term 4
DESCRIPTION:Join us on Friday nights from 7-9pm during the term if you’re in high school.  \nFor more information or to register go to Grace Community Youth.
URL:https://gracecommunity.org.au/event/grace-community-youth-term-4/2025-10-17/
LOCATION:Grace Community Church\, 5 Glenelg Pl\, Connolly\, WA\, 6027\, Australia
CATEGORIES:Youth Group
ATTACH;FMTTYPE=image/jpeg:https://gracecommunity.org.au/wp-content/uploads/2025/01/Gcy-term-4-2025.jpg
ORGANIZER;CN="Grace Community":MAILTO:admin@gracecommunity.org.au
END:VEVENT
BEGIN:VEVENT
DTSTART;TZID=Australia/Perth:20250926T190000
DTEND;TZID=Australia/Perth:20250926T210000
DTSTAMP:20260421T221604
CREATED:20250424T042333Z
LAST-MODIFIED:20250424T081400Z
UID:10000397-1758913200-1758920400@gracecommunity.org.au
SUMMARY:Grace Community Youth Term 3
DESCRIPTION:Join us on Friday nights from 7-9pm during the term if you’re in high school.  \nFor more information or to register go to Grace Community Youth.
URL:https://gracecommunity.org.au/event/grace-community-youth-term-3/2025-09-26/
LOCATION:Grace Community Church\, 5 Glenelg Pl\, Connolly\, WA\, 6027\, Australia
CATEGORIES:Youth Group
ATTACH;FMTTYPE=image/jpeg:https://gracecommunity.org.au/wp-content/uploads/2025/01/Gcy-term-3-2025.jpg
ORGANIZER;CN="Grace Community":MAILTO:admin@gracecommunity.org.au
END:VEVENT
BEGIN:VEVENT
DTSTART;TZID=Australia/Perth:20250922T160500
DTEND;TZID=Australia/Perth:20250926T160500
DTSTAMP:20260421T221604
CREATED:20250424T080522Z
LAST-MODIFIED:20250807T050814Z
UID:10000337-1758557100-1758902700@gracecommunity.org.au
SUMMARY:Home Groups Term 3
DESCRIPTION:Grow in scriptural knowledge\, wisdom and Christian maturity by studying God’s word together. Develop lasting friendships as we journey through life together as interdependent members of the body of Christ. \nFor more information and to register your interest in joining one of our home groups see our Home Groups page.
URL:https://gracecommunity.org.au/event/home-groups-term-3-2/2025-09-22/
LOCATION:Grace Community Church\, 5 Glenelg Pl\, Connolly\, WA\, 6027\, Australia
CATEGORIES:Home Groups
ATTACH;FMTTYPE=image/png:https://gracecommunity.org.au/wp-content/uploads/2025/04/Home-groups-term-3-Facebook-Post.png
ORGANIZER;CN="Grace Community":MAILTO:admin@gracecommunity.org.au
END:VEVENT
BEGIN:VEVENT
DTSTART;TZID=Australia/Perth:20250919T190000
DTEND;TZID=Australia/Perth:20250919T210000
DTSTAMP:20260421T221604
CREATED:20250424T042333Z
LAST-MODIFIED:20250424T081400Z
UID:10000396-1758308400-1758315600@gracecommunity.org.au
SUMMARY:Grace Community Youth Term 3
DESCRIPTION:Join us on Friday nights from 7-9pm during the term if you’re in high school.  \nFor more information or to register go to Grace Community Youth.
URL:https://gracecommunity.org.au/event/grace-community-youth-term-3/2025-09-19/
LOCATION:Grace Community Church\, 5 Glenelg Pl\, Connolly\, WA\, 6027\, Australia
CATEGORIES:Youth Group
ATTACH;FMTTYPE=image/jpeg:https://gracecommunity.org.au/wp-content/uploads/2025/01/Gcy-term-3-2025.jpg
ORGANIZER;CN="Grace Community":MAILTO:admin@gracecommunity.org.au
END:VEVENT
BEGIN:VEVENT
DTSTART;TZID=Australia/Perth:20250915T160500
DTEND;TZID=Australia/Perth:20250919T160500
DTSTAMP:20260421T221604
CREATED:20250424T080522Z
LAST-MODIFIED:20250807T050814Z
UID:10000336-1757952300-1758297900@gracecommunity.org.au
SUMMARY:Home Groups Term 3
DESCRIPTION:Grow in scriptural knowledge\, wisdom and Christian maturity by studying God’s word together. Develop lasting friendships as we journey through life together as interdependent members of the body of Christ. \nFor more information and to register your interest in joining one of our home groups see our Home Groups page.
URL:https://gracecommunity.org.au/event/home-groups-term-3-2/2025-09-15/
LOCATION:Grace Community Church\, 5 Glenelg Pl\, Connolly\, WA\, 6027\, Australia
CATEGORIES:Home Groups
ATTACH;FMTTYPE=image/png:https://gracecommunity.org.au/wp-content/uploads/2025/04/Home-groups-term-3-Facebook-Post.png
ORGANIZER;CN="Grace Community":MAILTO:admin@gracecommunity.org.au
END:VEVENT
BEGIN:VEVENT
DTSTART;TZID=Australia/Perth:20250912T190000
DTEND;TZID=Australia/Perth:20250912T210000
DTSTAMP:20260421T221604
CREATED:20250821T032604Z
LAST-MODIFIED:20250911T233033Z
UID:10000191-1757703600-1757710800@gracecommunity.org.au
SUMMARY:Grace Community Youth Social Night
DESCRIPTION:Youth Social night. Come skate the night away at our youth rollerskating evening! 7-9pm at the Morley Rollerdrome. (95 Catherine St Morley\, WA\, 6062) Cost is $15 per person. Details will also be emailed via the youth newsletter. If you do not receive the newsletter\, email Isaac at isaac@gracecommunity.org.au or contact us via the youth page: Grace Community Youth.
URL:https://gracecommunity.org.au/event/grace-community-youth-social-night-6/
LOCATION:Morley Rollerdrome\, 95 Catherine St\, Morley\, WA\, 6062\, Australia
CATEGORIES:Youth Group
ATTACH;FMTTYPE=image/png:https://gracecommunity.org.au/wp-content/uploads/2025/04/1.png
ORGANIZER;CN="Grace Community":MAILTO:admin@gracecommunity.org.au
END:VEVENT
BEGIN:VEVENT
DTSTART;TZID=Australia/Perth:20250908T160500
DTEND;TZID=Australia/Perth:20250912T160500
DTSTAMP:20260421T221604
CREATED:20250424T080522Z
LAST-MODIFIED:20250807T050814Z
UID:10000335-1757347500-1757693100@gracecommunity.org.au
SUMMARY:Home Groups Term 3
DESCRIPTION:Grow in scriptural knowledge\, wisdom and Christian maturity by studying God’s word together. Develop lasting friendships as we journey through life together as interdependent members of the body of Christ. \nFor more information and to register your interest in joining one of our home groups see our Home Groups page.
URL:https://gracecommunity.org.au/event/home-groups-term-3-2/2025-09-08/
LOCATION:Grace Community Church\, 5 Glenelg Pl\, Connolly\, WA\, 6027\, Australia
CATEGORIES:Home Groups
ATTACH;FMTTYPE=image/png:https://gracecommunity.org.au/wp-content/uploads/2025/04/Home-groups-term-3-Facebook-Post.png
ORGANIZER;CN="Grace Community":MAILTO:admin@gracecommunity.org.au
END:VEVENT
BEGIN:VEVENT
DTSTART;TZID=Australia/Perth:20250905T190000
DTEND;TZID=Australia/Perth:20250905T210000
DTSTAMP:20260421T221604
CREATED:20250424T042333Z
LAST-MODIFIED:20250424T081400Z
UID:10000395-1757098800-1757106000@gracecommunity.org.au
SUMMARY:Grace Community Youth Term 3
DESCRIPTION:Join us on Friday nights from 7-9pm during the term if you’re in high school.  \nFor more information or to register go to Grace Community Youth.
URL:https://gracecommunity.org.au/event/grace-community-youth-term-3/2025-09-05/
LOCATION:Grace Community Church\, 5 Glenelg Pl\, Connolly\, WA\, 6027\, Australia
CATEGORIES:Youth Group
ATTACH;FMTTYPE=image/jpeg:https://gracecommunity.org.au/wp-content/uploads/2025/01/Gcy-term-3-2025.jpg
ORGANIZER;CN="Grace Community":MAILTO:admin@gracecommunity.org.au
END:VEVENT
BEGIN:VEVENT
DTSTART;TZID=Australia/Perth:20250901T160500
DTEND;TZID=Australia/Perth:20250905T160500
DTSTAMP:20260421T221604
CREATED:20250424T080522Z
LAST-MODIFIED:20250807T050814Z
UID:10000334-1756742700-1757088300@gracecommunity.org.au
SUMMARY:Home Groups Term 3
DESCRIPTION:Grow in scriptural knowledge\, wisdom and Christian maturity by studying God’s word together. Develop lasting friendships as we journey through life together as interdependent members of the body of Christ. \nFor more information and to register your interest in joining one of our home groups see our Home Groups page.
URL:https://gracecommunity.org.au/event/home-groups-term-3-2/2025-09-01/
LOCATION:Grace Community Church\, 5 Glenelg Pl\, Connolly\, WA\, 6027\, Australia
CATEGORIES:Home Groups
ATTACH;FMTTYPE=image/png:https://gracecommunity.org.au/wp-content/uploads/2025/04/Home-groups-term-3-Facebook-Post.png
ORGANIZER;CN="Grace Community":MAILTO:admin@gracecommunity.org.au
END:VEVENT
BEGIN:VEVENT
DTSTART;TZID=Australia/Perth:20250829T190000
DTEND;TZID=Australia/Perth:20250829T210000
DTSTAMP:20260421T221604
CREATED:20250424T042333Z
LAST-MODIFIED:20250424T081400Z
UID:10000394-1756494000-1756501200@gracecommunity.org.au
SUMMARY:Grace Community Youth Term 3
DESCRIPTION:Join us on Friday nights from 7-9pm during the term if you’re in high school.  \nFor more information or to register go to Grace Community Youth.
URL:https://gracecommunity.org.au/event/grace-community-youth-term-3/2025-08-29/
LOCATION:Grace Community Church\, 5 Glenelg Pl\, Connolly\, WA\, 6027\, Australia
CATEGORIES:Youth Group
ATTACH;FMTTYPE=image/jpeg:https://gracecommunity.org.au/wp-content/uploads/2025/01/Gcy-term-3-2025.jpg
ORGANIZER;CN="Grace Community":MAILTO:admin@gracecommunity.org.au
END:VEVENT
BEGIN:VEVENT
DTSTART;TZID=Australia/Perth:20250825T160500
DTEND;TZID=Australia/Perth:20250829T160500
DTSTAMP:20260421T221604
CREATED:20250424T080522Z
LAST-MODIFIED:20250807T050814Z
UID:10000333-1756137900-1756483500@gracecommunity.org.au
SUMMARY:Home Groups Term 3
DESCRIPTION:Grow in scriptural knowledge\, wisdom and Christian maturity by studying God’s word together. Develop lasting friendships as we journey through life together as interdependent members of the body of Christ. \nFor more information and to register your interest in joining one of our home groups see our Home Groups page.
URL:https://gracecommunity.org.au/event/home-groups-term-3-2/2025-08-25/
LOCATION:Grace Community Church\, 5 Glenelg Pl\, Connolly\, WA\, 6027\, Australia
CATEGORIES:Home Groups
ATTACH;FMTTYPE=image/png:https://gracecommunity.org.au/wp-content/uploads/2025/04/Home-groups-term-3-Facebook-Post.png
ORGANIZER;CN="Grace Community":MAILTO:admin@gracecommunity.org.au
END:VEVENT
BEGIN:VEVENT
DTSTART;TZID=Australia/Perth:20250822T190000
DTEND;TZID=Australia/Perth:20250822T210000
DTSTAMP:20260421T221604
CREATED:20250424T042333Z
LAST-MODIFIED:20250424T081400Z
UID:10000393-1755889200-1755896400@gracecommunity.org.au
SUMMARY:Grace Community Youth Term 3
DESCRIPTION:Join us on Friday nights from 7-9pm during the term if you’re in high school.  \nFor more information or to register go to Grace Community Youth.
URL:https://gracecommunity.org.au/event/grace-community-youth-term-3/2025-08-22/
LOCATION:Grace Community Church\, 5 Glenelg Pl\, Connolly\, WA\, 6027\, Australia
CATEGORIES:Youth Group
ATTACH;FMTTYPE=image/jpeg:https://gracecommunity.org.au/wp-content/uploads/2025/01/Gcy-term-3-2025.jpg
ORGANIZER;CN="Grace Community":MAILTO:admin@gracecommunity.org.au
END:VEVENT
BEGIN:VEVENT
DTSTART;TZID=Australia/Perth:20250818T160500
DTEND;TZID=Australia/Perth:20250822T160500
DTSTAMP:20260421T221604
CREATED:20250424T080522Z
LAST-MODIFIED:20250807T050814Z
UID:10000332-1755533100-1755878700@gracecommunity.org.au
SUMMARY:Home Groups Term 3
DESCRIPTION:Grow in scriptural knowledge\, wisdom and Christian maturity by studying God’s word together. Develop lasting friendships as we journey through life together as interdependent members of the body of Christ. \nFor more information and to register your interest in joining one of our home groups see our Home Groups page.
URL:https://gracecommunity.org.au/event/home-groups-term-3-2/2025-08-18/
LOCATION:Grace Community Church\, 5 Glenelg Pl\, Connolly\, WA\, 6027\, Australia
CATEGORIES:Home Groups
ATTACH;FMTTYPE=image/png:https://gracecommunity.org.au/wp-content/uploads/2025/04/Home-groups-term-3-Facebook-Post.png
ORGANIZER;CN="Grace Community":MAILTO:admin@gracecommunity.org.au
END:VEVENT
BEGIN:VEVENT
DTSTART;TZID=Australia/Perth:20250815T190000
DTEND;TZID=Australia/Perth:20250815T210000
DTSTAMP:20260421T221604
CREATED:20250424T042333Z
LAST-MODIFIED:20250424T081400Z
UID:10000392-1755284400-1755291600@gracecommunity.org.au
SUMMARY:Grace Community Youth Term 3
DESCRIPTION:Join us on Friday nights from 7-9pm during the term if you’re in high school.  \nFor more information or to register go to Grace Community Youth.
URL:https://gracecommunity.org.au/event/grace-community-youth-term-3/2025-08-15/
LOCATION:Grace Community Church\, 5 Glenelg Pl\, Connolly\, WA\, 6027\, Australia
CATEGORIES:Youth Group
ATTACH;FMTTYPE=image/jpeg:https://gracecommunity.org.au/wp-content/uploads/2025/01/Gcy-term-3-2025.jpg
ORGANIZER;CN="Grace Community":MAILTO:admin@gracecommunity.org.au
END:VEVENT
BEGIN:VEVENT
DTSTART;TZID=Australia/Perth:20250811T160500
DTEND;TZID=Australia/Perth:20250815T160500
DTSTAMP:20260421T221604
CREATED:20250424T080522Z
LAST-MODIFIED:20250807T050814Z
UID:10000331-1754928300-1755273900@gracecommunity.org.au
SUMMARY:Home Groups Term 3
DESCRIPTION:Grow in scriptural knowledge\, wisdom and Christian maturity by studying God’s word together. Develop lasting friendships as we journey through life together as interdependent members of the body of Christ. \nFor more information and to register your interest in joining one of our home groups see our Home Groups page.
URL:https://gracecommunity.org.au/event/home-groups-term-3-2/2025-08-11/
LOCATION:Grace Community Church\, 5 Glenelg Pl\, Connolly\, WA\, 6027\, Australia
CATEGORIES:Home Groups
ATTACH;FMTTYPE=image/png:https://gracecommunity.org.au/wp-content/uploads/2025/04/Home-groups-term-3-Facebook-Post.png
ORGANIZER;CN="Grace Community":MAILTO:admin@gracecommunity.org.au
END:VEVENT
BEGIN:VEVENT
DTSTART;TZID=Australia/Perth:20250804T160500
DTEND;TZID=Australia/Perth:20250808T160500
DTSTAMP:20260421T221604
CREATED:20250424T080522Z
LAST-MODIFIED:20250807T050814Z
UID:10000330-1754323500-1754669100@gracecommunity.org.au
SUMMARY:Home Groups Term 3
DESCRIPTION:Grow in scriptural knowledge\, wisdom and Christian maturity by studying God’s word together. Develop lasting friendships as we journey through life together as interdependent members of the body of Christ. \nFor more information and to register your interest in joining one of our home groups see our Home Groups page.
URL:https://gracecommunity.org.au/event/home-groups-term-3-2/2025-08-04/
LOCATION:Grace Community Church\, 5 Glenelg Pl\, Connolly\, WA\, 6027\, Australia
CATEGORIES:Home Groups
ATTACH;FMTTYPE=image/png:https://gracecommunity.org.au/wp-content/uploads/2025/04/Home-groups-term-3-Facebook-Post.png
ORGANIZER;CN="Grace Community":MAILTO:admin@gracecommunity.org.au
END:VEVENT
BEGIN:VEVENT
DTSTART;TZID=Australia/Perth:20250801T190000
DTEND;TZID=Australia/Perth:20250801T210000
DTSTAMP:20260421T221604
CREATED:20250424T042333Z
LAST-MODIFIED:20250424T081400Z
UID:10000391-1754074800-1754082000@gracecommunity.org.au
SUMMARY:Grace Community Youth Term 3
DESCRIPTION:Join us on Friday nights from 7-9pm during the term if you’re in high school.  \nFor more information or to register go to Grace Community Youth.
URL:https://gracecommunity.org.au/event/grace-community-youth-term-3/2025-08-01/
LOCATION:Grace Community Church\, 5 Glenelg Pl\, Connolly\, WA\, 6027\, Australia
CATEGORIES:Youth Group
ATTACH;FMTTYPE=image/jpeg:https://gracecommunity.org.au/wp-content/uploads/2025/01/Gcy-term-3-2025.jpg
ORGANIZER;CN="Grace Community":MAILTO:admin@gracecommunity.org.au
END:VEVENT
BEGIN:VEVENT
DTSTART;TZID=Australia/Perth:20250728T160500
DTEND;TZID=Australia/Perth:20250801T160500
DTSTAMP:20260421T221604
CREATED:20250424T080522Z
LAST-MODIFIED:20250807T050814Z
UID:10000329-1753718700-1754064300@gracecommunity.org.au
SUMMARY:Home Groups Term 3
DESCRIPTION:Grow in scriptural knowledge\, wisdom and Christian maturity by studying God’s word together. Develop lasting friendships as we journey through life together as interdependent members of the body of Christ. \nFor more information and to register your interest in joining one of our home groups see our Home Groups page.
URL:https://gracecommunity.org.au/event/home-groups-term-3-2/2025-07-28/
LOCATION:Grace Community Church\, 5 Glenelg Pl\, Connolly\, WA\, 6027\, Australia
CATEGORIES:Home Groups
ATTACH;FMTTYPE=image/png:https://gracecommunity.org.au/wp-content/uploads/2025/04/Home-groups-term-3-Facebook-Post.png
ORGANIZER;CN="Grace Community":MAILTO:admin@gracecommunity.org.au
END:VEVENT
BEGIN:VEVENT
DTSTART;TZID=Australia/Perth:20250725T190000
DTEND;TZID=Australia/Perth:20250725T210000
DTSTAMP:20260421T221604
CREATED:20250424T042333Z
LAST-MODIFIED:20250424T081400Z
UID:10000195-1753470000-1753477200@gracecommunity.org.au
SUMMARY:Grace Community Youth Term 3
DESCRIPTION:Join us on Friday nights from 7-9pm during the term if you’re in high school.  \nFor more information or to register go to Grace Community Youth.
URL:https://gracecommunity.org.au/event/grace-community-youth-term-3/2025-07-25/2/
LOCATION:Grace Community Church\, 5 Glenelg Pl\, Connolly\, WA\, 6027\, Australia
CATEGORIES:Youth Group
ATTACH;FMTTYPE=image/jpeg:https://gracecommunity.org.au/wp-content/uploads/2025/01/Gcy-term-3-2025.jpg
ORGANIZER;CN="Grace Community":MAILTO:admin@gracecommunity.org.au
END:VEVENT
END:VCALENDAR