BEGIN:VCALENDAR
VERSION:2.0
PRODID:-//Grace Community - ECPv6.15.20//NONSGML v1.0//EN
CALSCALE:GREGORIAN
METHOD:PUBLISH
X-WR-CALNAME:Grace Community
X-ORIGINAL-URL:https://gracecommunity.org.au
X-WR-CALDESC:Events for Grace Community
REFRESH-INTERVAL;VALUE=DURATION:PT1H
X-Robots-Tag:noindex
X-PUBLISHED-TTL:PT1H
BEGIN:VTIMEZONE
TZID:Australia/Perth
BEGIN:STANDARD
TZOFFSETFROM:+0800
TZOFFSETTO:+0800
TZNAME:AWST
DTSTART:20240101T000000
END:STANDARD
END:VTIMEZONE
BEGIN:VEVENT
DTSTART;TZID=Australia/Perth:20250620T190000
DTEND;TZID=Australia/Perth:20250620T210000
DTSTAMP:20260422T022303
CREATED:20250424T040356Z
LAST-MODIFIED:20250424T071145Z
UID:10000202-1750446000-1750453200@gracecommunity.org.au
SUMMARY:Grace Community Youth Term 2
DESCRIPTION:Join us on Friday nights from 7-9pm during the term if you’re in high school.  \nFor more information or to register go to Grace Community Youth.
URL:https://gracecommunity.org.au/event/grace-community-youth-term-2/2025-06-20/
LOCATION:Grace Community Church\, 5 Glenelg Pl\, Connolly\, WA\, 6027\, Australia
CATEGORIES:Youth Group
ATTACH;FMTTYPE=image/jpeg:https://gracecommunity.org.au/wp-content/uploads/2025/01/Gcy-term-2-2025.jpg
ORGANIZER;CN="Grace Community":MAILTO:admin@gracecommunity.org.au
END:VEVENT
BEGIN:VEVENT
DTSTART;TZID=Australia/Perth:20250616T190000
DTEND;TZID=Australia/Perth:20250620T210000
DTSTAMP:20260422T022303
CREATED:20250424T061040Z
LAST-MODIFIED:20250424T080949Z
UID:10000211-1750100400-1750453200@gracecommunity.org.au
SUMMARY:Home Groups Term 2
DESCRIPTION:Grow in scriptural knowledge\, wisdom and Christian maturity by studying God’s word together. Develop lasting friendships as we journey through life together as interdependent members of the body of Christ. \nFor more information and to register your interest in joining one of our home groups see our Home Groups page.
URL:https://gracecommunity.org.au/event/home-groups-2/2025-06-16/
LOCATION:Grace Community Church\, 5 Glenelg Pl\, Connolly\, WA\, 6027\, Australia
CATEGORIES:Home Groups
ATTACH;FMTTYPE=image/png:https://gracecommunity.org.au/wp-content/uploads/2025/01/Home-groups-term-2-Facebook.png
ORGANIZER;CN="Grace Community":MAILTO:admin@gracecommunity.org.au
END:VEVENT
BEGIN:VEVENT
DTSTART;TZID=Australia/Perth:20250613T190000
DTEND;TZID=Australia/Perth:20250613T203000
DTSTAMP:20260422T022303
CREATED:20250526T055508Z
LAST-MODIFIED:20250605T130541Z
UID:10000581-1749841200-1749846600@gracecommunity.org.au
SUMMARY:Grace Community Youth Social Night - Escape Rooms
DESCRIPTION:Grace Community Youth Social Night. Calling all high schoolers. Join us for a social night on Friday the 13th June as we try our hand\, and our minds\, to escaping from the Time’s Up Escape Rooms. Time is 7 – 8:30pm at 24 Dundebar Rd Wanneroo. Cost is $20 per person. Please let us know you’re coming.
URL:https://gracecommunity.org.au/event/grace-community-youth-social-night-escape-rooms/
LOCATION:Time’s Up Escape Rooms\, 24 Dundebar Road\, Wanneroo\, WA\, 6065\, Australia
CATEGORIES:Youth Group
ATTACH;FMTTYPE=image/png:https://gracecommunity.org.au/wp-content/uploads/2025/05/Escape-Rooms-1.png
ORGANIZER;CN="Grace Community":MAILTO:admin@gracecommunity.org.au
END:VEVENT
BEGIN:VEVENT
DTSTART;TZID=Australia/Perth:20250609T190000
DTEND;TZID=Australia/Perth:20250613T210000
DTSTAMP:20260422T022303
CREATED:20250424T061040Z
LAST-MODIFIED:20250424T080949Z
UID:10000210-1749495600-1749848400@gracecommunity.org.au
SUMMARY:Home Groups Term 2
DESCRIPTION:Grow in scriptural knowledge\, wisdom and Christian maturity by studying God’s word together. Develop lasting friendships as we journey through life together as interdependent members of the body of Christ. \nFor more information and to register your interest in joining one of our home groups see our Home Groups page.
URL:https://gracecommunity.org.au/event/home-groups-2/2025-06-09/
LOCATION:Grace Community Church\, 5 Glenelg Pl\, Connolly\, WA\, 6027\, Australia
CATEGORIES:Home Groups
ATTACH;FMTTYPE=image/png:https://gracecommunity.org.au/wp-content/uploads/2025/01/Home-groups-term-2-Facebook.png
ORGANIZER;CN="Grace Community":MAILTO:admin@gracecommunity.org.au
END:VEVENT
BEGIN:VEVENT
DTSTART;TZID=Australia/Perth:20250606T190000
DTEND;TZID=Australia/Perth:20250606T210000
DTSTAMP:20260422T022303
CREATED:20250424T040356Z
LAST-MODIFIED:20250424T071145Z
UID:10000201-1749236400-1749243600@gracecommunity.org.au
SUMMARY:Grace Community Youth Term 2
DESCRIPTION:Join us on Friday nights from 7-9pm during the term if you’re in high school.  \nFor more information or to register go to Grace Community Youth.
URL:https://gracecommunity.org.au/event/grace-community-youth-term-2/2025-06-06/
LOCATION:Grace Community Church\, 5 Glenelg Pl\, Connolly\, WA\, 6027\, Australia
CATEGORIES:Youth Group
ATTACH;FMTTYPE=image/jpeg:https://gracecommunity.org.au/wp-content/uploads/2025/01/Gcy-term-2-2025.jpg
ORGANIZER;CN="Grace Community":MAILTO:admin@gracecommunity.org.au
END:VEVENT
BEGIN:VEVENT
DTSTART;TZID=Australia/Perth:20250602T190000
DTEND;TZID=Australia/Perth:20250606T210000
DTSTAMP:20260422T022303
CREATED:20250424T061040Z
LAST-MODIFIED:20250424T080949Z
UID:10000209-1748890800-1749243600@gracecommunity.org.au
SUMMARY:Home Groups Term 2
DESCRIPTION:Grow in scriptural knowledge\, wisdom and Christian maturity by studying God’s word together. Develop lasting friendships as we journey through life together as interdependent members of the body of Christ. \nFor more information and to register your interest in joining one of our home groups see our Home Groups page.
URL:https://gracecommunity.org.au/event/home-groups-2/2025-06-02/
LOCATION:Grace Community Church\, 5 Glenelg Pl\, Connolly\, WA\, 6027\, Australia
CATEGORIES:Home Groups
ATTACH;FMTTYPE=image/png:https://gracecommunity.org.au/wp-content/uploads/2025/01/Home-groups-term-2-Facebook.png
ORGANIZER;CN="Grace Community":MAILTO:admin@gracecommunity.org.au
END:VEVENT
BEGIN:VEVENT
DTSTART;TZID=Australia/Perth:20250530T190000
DTEND;TZID=Australia/Perth:20250530T210000
DTSTAMP:20260422T022303
CREATED:20250424T040356Z
LAST-MODIFIED:20250424T071145Z
UID:10000200-1748631600-1748638800@gracecommunity.org.au
SUMMARY:Grace Community Youth Term 2
DESCRIPTION:Join us on Friday nights from 7-9pm during the term if you’re in high school.  \nFor more information or to register go to Grace Community Youth.
URL:https://gracecommunity.org.au/event/grace-community-youth-term-2/2025-05-30/
LOCATION:Grace Community Church\, 5 Glenelg Pl\, Connolly\, WA\, 6027\, Australia
CATEGORIES:Youth Group
ATTACH;FMTTYPE=image/jpeg:https://gracecommunity.org.au/wp-content/uploads/2025/01/Gcy-term-2-2025.jpg
ORGANIZER;CN="Grace Community":MAILTO:admin@gracecommunity.org.au
END:VEVENT
BEGIN:VEVENT
DTSTART;TZID=Australia/Perth:20250526T190000
DTEND;TZID=Australia/Perth:20250530T210000
DTSTAMP:20260422T022303
CREATED:20250424T061040Z
LAST-MODIFIED:20250424T080949Z
UID:10000208-1748286000-1748638800@gracecommunity.org.au
SUMMARY:Home Groups Term 2
DESCRIPTION:Grow in scriptural knowledge\, wisdom and Christian maturity by studying God’s word together. Develop lasting friendships as we journey through life together as interdependent members of the body of Christ. \nFor more information and to register your interest in joining one of our home groups see our Home Groups page.
URL:https://gracecommunity.org.au/event/home-groups-2/2025-05-26/
LOCATION:Grace Community Church\, 5 Glenelg Pl\, Connolly\, WA\, 6027\, Australia
CATEGORIES:Home Groups
ATTACH;FMTTYPE=image/png:https://gracecommunity.org.au/wp-content/uploads/2025/01/Home-groups-term-2-Facebook.png
ORGANIZER;CN="Grace Community":MAILTO:admin@gracecommunity.org.au
END:VEVENT
BEGIN:VEVENT
DTSTART;TZID=Australia/Perth:20250523T190000
DTEND;TZID=Australia/Perth:20250523T210000
DTSTAMP:20260422T022303
CREATED:20250424T040356Z
LAST-MODIFIED:20250424T071145Z
UID:10000199-1748026800-1748034000@gracecommunity.org.au
SUMMARY:Grace Community Youth Term 2
DESCRIPTION:Join us on Friday nights from 7-9pm during the term if you’re in high school.  \nFor more information or to register go to Grace Community Youth.
URL:https://gracecommunity.org.au/event/grace-community-youth-term-2/2025-05-23/
LOCATION:Grace Community Church\, 5 Glenelg Pl\, Connolly\, WA\, 6027\, Australia
CATEGORIES:Youth Group
ATTACH;FMTTYPE=image/jpeg:https://gracecommunity.org.au/wp-content/uploads/2025/01/Gcy-term-2-2025.jpg
ORGANIZER;CN="Grace Community":MAILTO:admin@gracecommunity.org.au
END:VEVENT
BEGIN:VEVENT
DTSTART;TZID=Australia/Perth:20250519T190000
DTEND;TZID=Australia/Perth:20250523T210000
DTSTAMP:20260422T022303
CREATED:20250424T061040Z
LAST-MODIFIED:20250424T080949Z
UID:10000207-1747681200-1748034000@gracecommunity.org.au
SUMMARY:Home Groups Term 2
DESCRIPTION:Grow in scriptural knowledge\, wisdom and Christian maturity by studying God’s word together. Develop lasting friendships as we journey through life together as interdependent members of the body of Christ. \nFor more information and to register your interest in joining one of our home groups see our Home Groups page.
URL:https://gracecommunity.org.au/event/home-groups-2/2025-05-19/
LOCATION:Grace Community Church\, 5 Glenelg Pl\, Connolly\, WA\, 6027\, Australia
CATEGORIES:Home Groups
ATTACH;FMTTYPE=image/png:https://gracecommunity.org.au/wp-content/uploads/2025/01/Home-groups-term-2-Facebook.png
ORGANIZER;CN="Grace Community":MAILTO:admin@gracecommunity.org.au
END:VEVENT
BEGIN:VEVENT
DTSTART;TZID=Australia/Perth:20250516T190000
DTEND;TZID=Australia/Perth:20250516T210000
DTSTAMP:20260422T022303
CREATED:20250424T040356Z
LAST-MODIFIED:20250424T071145Z
UID:10000198-1747422000-1747429200@gracecommunity.org.au
SUMMARY:Grace Community Youth Term 2
DESCRIPTION:Join us on Friday nights from 7-9pm during the term if you’re in high school.  \nFor more information or to register go to Grace Community Youth.
URL:https://gracecommunity.org.au/event/grace-community-youth-term-2/2025-05-16/
LOCATION:Grace Community Church\, 5 Glenelg Pl\, Connolly\, WA\, 6027\, Australia
CATEGORIES:Youth Group
ATTACH;FMTTYPE=image/jpeg:https://gracecommunity.org.au/wp-content/uploads/2025/01/Gcy-term-2-2025.jpg
ORGANIZER;CN="Grace Community":MAILTO:admin@gracecommunity.org.au
END:VEVENT
BEGIN:VEVENT
DTSTART;TZID=Australia/Perth:20250512T190000
DTEND;TZID=Australia/Perth:20250516T210000
DTSTAMP:20260422T022303
CREATED:20250424T061040Z
LAST-MODIFIED:20250424T080949Z
UID:10000206-1747076400-1747429200@gracecommunity.org.au
SUMMARY:Home Groups Term 2
DESCRIPTION:Grow in scriptural knowledge\, wisdom and Christian maturity by studying God’s word together. Develop lasting friendships as we journey through life together as interdependent members of the body of Christ. \nFor more information and to register your interest in joining one of our home groups see our Home Groups page.
URL:https://gracecommunity.org.au/event/home-groups-2/2025-05-12/
LOCATION:Grace Community Church\, 5 Glenelg Pl\, Connolly\, WA\, 6027\, Australia
CATEGORIES:Home Groups
ATTACH;FMTTYPE=image/png:https://gracecommunity.org.au/wp-content/uploads/2025/01/Home-groups-term-2-Facebook.png
ORGANIZER;CN="Grace Community":MAILTO:admin@gracecommunity.org.au
END:VEVENT
BEGIN:VEVENT
DTSTART;TZID=Australia/Perth:20250509T190000
DTEND;TZID=Australia/Perth:20250509T210000
DTSTAMP:20260422T022303
CREATED:20250424T040701Z
LAST-MODIFIED:20250424T075407Z
UID:10000188-1746817200-1746824400@gracecommunity.org.au
SUMMARY:Grace Community Youth Social Night
DESCRIPTION:Youth Social night. On this date we don’t have access to the hall so we’ll be organising a social night. Details will be emailed via the youth newsletter. If you do not receive the newsletter\, email Isaac at isaac@gracecommunity.org.au or contact us via the youth page: Grace Community Youth.
URL:https://gracecommunity.org.au/event/grace-community-youth-social-night-3/
LOCATION:Grace Community Church\, 5 Glenelg Pl\, Connolly\, WA\, 6027\, Australia
CATEGORIES:Youth Group
ATTACH;FMTTYPE=image/jpeg:https://gracecommunity.org.au/wp-content/uploads/2025/01/GCY-social-night.jpg
ORGANIZER;CN="Grace Community":MAILTO:admin@gracecommunity.org.au
END:VEVENT
BEGIN:VEVENT
DTSTART;TZID=Australia/Perth:20250505T190000
DTEND;TZID=Australia/Perth:20250509T210000
DTSTAMP:20260422T022303
CREATED:20250424T061040Z
LAST-MODIFIED:20250424T080949Z
UID:10000205-1746471600-1746824400@gracecommunity.org.au
SUMMARY:Home Groups Term 2
DESCRIPTION:Grow in scriptural knowledge\, wisdom and Christian maturity by studying God’s word together. Develop lasting friendships as we journey through life together as interdependent members of the body of Christ. \nFor more information and to register your interest in joining one of our home groups see our Home Groups page.
URL:https://gracecommunity.org.au/event/home-groups-2/2025-05-05/
LOCATION:Grace Community Church\, 5 Glenelg Pl\, Connolly\, WA\, 6027\, Australia
CATEGORIES:Home Groups
ATTACH;FMTTYPE=image/png:https://gracecommunity.org.au/wp-content/uploads/2025/01/Home-groups-term-2-Facebook.png
ORGANIZER;CN="Grace Community":MAILTO:admin@gracecommunity.org.au
END:VEVENT
BEGIN:VEVENT
DTSTART;TZID=Australia/Perth:20250502T190000
DTEND;TZID=Australia/Perth:20250502T210000
DTSTAMP:20260422T022303
CREATED:20250424T040356Z
LAST-MODIFIED:20250424T071145Z
UID:10000187-1746212400-1746219600@gracecommunity.org.au
SUMMARY:Grace Community Youth Term 2
DESCRIPTION:Join us on Friday nights from 7-9pm during the term if you’re in high school.  \nFor more information or to register go to Grace Community Youth.
URL:https://gracecommunity.org.au/event/grace-community-youth-term-2/2025-05-02/
LOCATION:Grace Community Church\, 5 Glenelg Pl\, Connolly\, WA\, 6027\, Australia
CATEGORIES:Youth Group
ATTACH;FMTTYPE=image/jpeg:https://gracecommunity.org.au/wp-content/uploads/2025/01/Gcy-term-2-2025.jpg
ORGANIZER;CN="Grace Community":MAILTO:admin@gracecommunity.org.au
END:VEVENT
BEGIN:VEVENT
DTSTART;TZID=Australia/Perth:20250428T190000
DTEND;TZID=Australia/Perth:20250502T210000
DTSTAMP:20260422T022303
CREATED:20250424T061040Z
LAST-MODIFIED:20250424T080949Z
UID:10000165-1745866800-1746219600@gracecommunity.org.au
SUMMARY:Home Groups Term 2
DESCRIPTION:Grow in scriptural knowledge\, wisdom and Christian maturity by studying God’s word together. Develop lasting friendships as we journey through life together as interdependent members of the body of Christ. \nFor more information and to register your interest in joining one of our home groups see our Home Groups page.
URL:https://gracecommunity.org.au/event/home-groups-2/2025-04-28/
LOCATION:Grace Community Church\, 5 Glenelg Pl\, Connolly\, WA\, 6027\, Australia
CATEGORIES:Home Groups
ATTACH;FMTTYPE=image/png:https://gracecommunity.org.au/wp-content/uploads/2025/01/Home-groups-term-2-Facebook.png
ORGANIZER;CN="Grace Community":MAILTO:admin@gracecommunity.org.au
END:VEVENT
BEGIN:VEVENT
DTSTART;TZID=Australia/Perth:20250420T093000
DTEND;TZID=Australia/Perth:20250420T230000
DTSTAMP:20260422T022303
CREATED:20250329T070401Z
LAST-MODIFIED:20250329T070503Z
UID:10000180-1745141400-1745190000@gracecommunity.org.au
SUMMARY:Resurrection Sunday
DESCRIPTION:Today we will celebrate the most incredible day in the history of the world – when Jesus demonstrated his powerful defeat of Satan\, sin and death. Come join with followers of Jesus as we remember His resurrection.
URL:https://gracecommunity.org.au/event/resurrection-sunday/
LOCATION:Grace Community Church\, 5 Glenelg Pl\, Connolly\, WA\, 6027\, Australia
ATTACH;FMTTYPE=image/png:https://gracecommunity.org.au/wp-content/uploads/2025/03/Resurrection-Sunday-Presentation-Facebook-Post.png
END:VEVENT
BEGIN:VEVENT
DTSTART;TZID=Australia/Perth:20250418T180000
DTEND;TZID=Australia/Perth:20250418T190000
DTSTAMP:20260422T022303
CREATED:20250329T064507Z
LAST-MODIFIED:20250329T065616Z
UID:10000179-1744999200-1745002800@gracecommunity.org.au
SUMMARY:Good Friday
DESCRIPTION:Come and remember the sorrow and yet also the joy of Good Friday. Let’s sing of our great redeemer\, hear from the word of God and then enjoy a supper together. The service will start at 6pm and finish at around 7pm. Following the service we’ll enjoy some fellowship over a hot drink and some hot cross buns.
URL:https://gracecommunity.org.au/event/good-friday/
LOCATION:Grace Community Church\, 5 Glenelg Pl\, Connolly\, WA\, 6027\, Australia
ATTACH;FMTTYPE=image/png:https://gracecommunity.org.au/wp-content/uploads/2025/03/Good-Friday-Facebook-Copy.png
END:VEVENT
BEGIN:VEVENT
DTSTART;TZID=Australia/Perth:20250407T190000
DTEND;TZID=Australia/Perth:20250411T210000
DTSTAMP:20260422T022303
CREATED:20250120T092704Z
LAST-MODIFIED:20250130T073100Z
UID:10000139-1744052400-1744405200@gracecommunity.org.au
SUMMARY:Home Groups
DESCRIPTION:Grow in scriptural knowledge\, wisdom and Christian maturity by studying God’s word together. Develop lasting friendships as we journey through life together as interdependent members of the body of Christ. \nFor more information and to register your interest in joining one of our home groups see our Home Groups page.
URL:https://gracecommunity.org.au/event/home-groups/2025-04-07/
LOCATION:WA
CATEGORIES:Home Groups
ATTACH;FMTTYPE=image/jpeg:https://gracecommunity.org.au/wp-content/uploads/2025/01/Home-Groups-banner-Facebook-Post.jpg
ORGANIZER;CN="Grace Community":MAILTO:admin@gracecommunity.org.au
END:VEVENT
BEGIN:VEVENT
DTSTART;TZID=Australia/Perth:20250404T190000
DTEND;TZID=Australia/Perth:20250404T210000
DTSTAMP:20260422T022303
CREATED:20250120T100157Z
LAST-MODIFIED:20250120T100810Z
UID:10000075-1743793200-1743800400@gracecommunity.org.au
SUMMARY:Grace Community Youth Term 1
DESCRIPTION:Join us on Friday nights from 7-9pm during the term if you’re in high school.  \nFor more information or to register go to Grace Community Youth.
URL:https://gracecommunity.org.au/event/grace-community-youth-term-1/2025-04-04/
LOCATION:Grace Community Church\, 5 Glenelg Pl\, Connolly\, WA\, 6027\, Australia
CATEGORIES:Youth Group
ATTACH;FMTTYPE=image/jpeg:https://gracecommunity.org.au/wp-content/uploads/2025/01/Gcy-term-1-2025.jpg
ORGANIZER;CN="Grace Community":MAILTO:admin@gracecommunity.org.au
END:VEVENT
BEGIN:VEVENT
DTSTART;TZID=Australia/Perth:20250331T190000
DTEND;TZID=Australia/Perth:20250404T210000
DTSTAMP:20260422T022303
CREATED:20250120T092704Z
LAST-MODIFIED:20250130T073100Z
UID:10000138-1743447600-1743800400@gracecommunity.org.au
SUMMARY:Home Groups
DESCRIPTION:Grow in scriptural knowledge\, wisdom and Christian maturity by studying God’s word together. Develop lasting friendships as we journey through life together as interdependent members of the body of Christ. \nFor more information and to register your interest in joining one of our home groups see our Home Groups page.
URL:https://gracecommunity.org.au/event/home-groups/2025-03-31/
LOCATION:WA
CATEGORIES:Home Groups
ATTACH;FMTTYPE=image/jpeg:https://gracecommunity.org.au/wp-content/uploads/2025/01/Home-Groups-banner-Facebook-Post.jpg
ORGANIZER;CN="Grace Community":MAILTO:admin@gracecommunity.org.au
END:VEVENT
BEGIN:VEVENT
DTSTART;TZID=Australia/Perth:20250328T190000
DTEND;TZID=Australia/Perth:20250328T210000
DTSTAMP:20260422T022303
CREATED:20250120T100157Z
LAST-MODIFIED:20250120T100810Z
UID:10000074-1743188400-1743195600@gracecommunity.org.au
SUMMARY:Grace Community Youth Term 1
DESCRIPTION:Join us on Friday nights from 7-9pm during the term if you’re in high school.  \nFor more information or to register go to Grace Community Youth.
URL:https://gracecommunity.org.au/event/grace-community-youth-term-1/2025-03-28/
LOCATION:Grace Community Church\, 5 Glenelg Pl\, Connolly\, WA\, 6027\, Australia
CATEGORIES:Youth Group
ATTACH;FMTTYPE=image/jpeg:https://gracecommunity.org.au/wp-content/uploads/2025/01/Gcy-term-1-2025.jpg
ORGANIZER;CN="Grace Community":MAILTO:admin@gracecommunity.org.au
END:VEVENT
BEGIN:VEVENT
DTSTART;TZID=Australia/Perth:20250324T190000
DTEND;TZID=Australia/Perth:20250328T210000
DTSTAMP:20260422T022303
CREATED:20250120T092704Z
LAST-MODIFIED:20250130T073100Z
UID:10000137-1742842800-1743195600@gracecommunity.org.au
SUMMARY:Home Groups
DESCRIPTION:Grow in scriptural knowledge\, wisdom and Christian maturity by studying God’s word together. Develop lasting friendships as we journey through life together as interdependent members of the body of Christ. \nFor more information and to register your interest in joining one of our home groups see our Home Groups page.
URL:https://gracecommunity.org.au/event/home-groups/2025-03-24/
LOCATION:WA
CATEGORIES:Home Groups
ATTACH;FMTTYPE=image/jpeg:https://gracecommunity.org.au/wp-content/uploads/2025/01/Home-Groups-banner-Facebook-Post.jpg
ORGANIZER;CN="Grace Community":MAILTO:admin@gracecommunity.org.au
END:VEVENT
BEGIN:VEVENT
DTSTART;TZID=Australia/Perth:20250323T120000
DTEND;TZID=Australia/Perth:20250323T120000
DTSTAMP:20260422T022303
CREATED:20250301T145510Z
LAST-MODIFIED:20250301T145510Z
UID:10000177-1742731200-1742731200@gracecommunity.org.au
SUMMARY:Baptisms
DESCRIPTION:Join us on Sunday\, March 23rd\, immediately following our Sunday service (12:00pm) for baptisms at Mullaloo Beach. Come and be a witness of those who are publicly declaring their faith in Jesus. This is a beautiful time when we can show our support and encourage our brothers and sisters in Christ by being there for them and sharing in their joy. \n 
URL:https://gracecommunity.org.au/event/baptisms/
LOCATION:Mullaloo Beach\, Tom Simpson\, Mullaloo\, WA\, Australia
ATTACH;FMTTYPE=image/png:https://gracecommunity.org.au/wp-content/uploads/2025/03/Baptisms-Facebook-Post.png
ORGANIZER;CN="Grace Community":MAILTO:admin@gracecommunity.org.au
END:VEVENT
BEGIN:VEVENT
DTSTART;TZID=Australia/Perth:20250321T190000
DTEND;TZID=Australia/Perth:20250321T210000
DTSTAMP:20260422T022303
CREATED:20250120T100157Z
LAST-MODIFIED:20250120T100810Z
UID:10000073-1742583600-1742590800@gracecommunity.org.au
SUMMARY:Grace Community Youth Term 1
DESCRIPTION:Join us on Friday nights from 7-9pm during the term if you’re in high school.  \nFor more information or to register go to Grace Community Youth.
URL:https://gracecommunity.org.au/event/grace-community-youth-term-1/2025-03-21/
LOCATION:Grace Community Church\, 5 Glenelg Pl\, Connolly\, WA\, 6027\, Australia
CATEGORIES:Youth Group
ATTACH;FMTTYPE=image/jpeg:https://gracecommunity.org.au/wp-content/uploads/2025/01/Gcy-term-1-2025.jpg
ORGANIZER;CN="Grace Community":MAILTO:admin@gracecommunity.org.au
END:VEVENT
BEGIN:VEVENT
DTSTART;TZID=Australia/Perth:20250317T190000
DTEND;TZID=Australia/Perth:20250321T210000
DTSTAMP:20260422T022303
CREATED:20250120T092704Z
LAST-MODIFIED:20250130T073100Z
UID:10000136-1742238000-1742590800@gracecommunity.org.au
SUMMARY:Home Groups
DESCRIPTION:Grow in scriptural knowledge\, wisdom and Christian maturity by studying God’s word together. Develop lasting friendships as we journey through life together as interdependent members of the body of Christ. \nFor more information and to register your interest in joining one of our home groups see our Home Groups page.
URL:https://gracecommunity.org.au/event/home-groups/2025-03-17/
LOCATION:WA
CATEGORIES:Home Groups
ATTACH;FMTTYPE=image/jpeg:https://gracecommunity.org.au/wp-content/uploads/2025/01/Home-Groups-banner-Facebook-Post.jpg
ORGANIZER;CN="Grace Community":MAILTO:admin@gracecommunity.org.au
END:VEVENT
BEGIN:VEVENT
DTSTART;TZID=Australia/Perth:20250310T190000
DTEND;TZID=Australia/Perth:20250314T210000
DTSTAMP:20260422T022303
CREATED:20250120T092704Z
LAST-MODIFIED:20250130T073100Z
UID:10000135-1741633200-1741986000@gracecommunity.org.au
SUMMARY:Home Groups
DESCRIPTION:Grow in scriptural knowledge\, wisdom and Christian maturity by studying God’s word together. Develop lasting friendships as we journey through life together as interdependent members of the body of Christ. \nFor more information and to register your interest in joining one of our home groups see our Home Groups page.
URL:https://gracecommunity.org.au/event/home-groups/2025-03-10/
LOCATION:WA
CATEGORIES:Home Groups
ATTACH;FMTTYPE=image/jpeg:https://gracecommunity.org.au/wp-content/uploads/2025/01/Home-Groups-banner-Facebook-Post.jpg
ORGANIZER;CN="Grace Community":MAILTO:admin@gracecommunity.org.au
END:VEVENT
BEGIN:VEVENT
DTSTART;TZID=Australia/Perth:20250307T190000
DTEND;TZID=Australia/Perth:20250307T210000
DTSTAMP:20260422T022303
CREATED:20250120T100157Z
LAST-MODIFIED:20250120T100810Z
UID:10000072-1741374000-1741381200@gracecommunity.org.au
SUMMARY:Grace Community Youth Term 1
DESCRIPTION:Join us on Friday nights from 7-9pm during the term if you’re in high school.  \nFor more information or to register go to Grace Community Youth.
URL:https://gracecommunity.org.au/event/grace-community-youth-term-1/2025-03-07/
LOCATION:Grace Community Church\, 5 Glenelg Pl\, Connolly\, WA\, 6027\, Australia
CATEGORIES:Youth Group
ATTACH;FMTTYPE=image/jpeg:https://gracecommunity.org.au/wp-content/uploads/2025/01/Gcy-term-1-2025.jpg
ORGANIZER;CN="Grace Community":MAILTO:admin@gracecommunity.org.au
END:VEVENT
BEGIN:VEVENT
DTSTART;TZID=Australia/Perth:20250303T190000
DTEND;TZID=Australia/Perth:20250307T210000
DTSTAMP:20260422T022303
CREATED:20250120T092704Z
LAST-MODIFIED:20250130T073100Z
UID:10000134-1741028400-1741381200@gracecommunity.org.au
SUMMARY:Home Groups
DESCRIPTION:Grow in scriptural knowledge\, wisdom and Christian maturity by studying God’s word together. Develop lasting friendships as we journey through life together as interdependent members of the body of Christ. \nFor more information and to register your interest in joining one of our home groups see our Home Groups page.
URL:https://gracecommunity.org.au/event/home-groups/2025-03-03/
LOCATION:WA
CATEGORIES:Home Groups
ATTACH;FMTTYPE=image/jpeg:https://gracecommunity.org.au/wp-content/uploads/2025/01/Home-Groups-banner-Facebook-Post.jpg
ORGANIZER;CN="Grace Community":MAILTO:admin@gracecommunity.org.au
END:VEVENT
BEGIN:VEVENT
DTSTART;TZID=Australia/Perth:20250228T190000
DTEND;TZID=Australia/Perth:20250228T210000
DTSTAMP:20260422T022303
CREATED:20250120T100157Z
LAST-MODIFIED:20250120T100810Z
UID:10000071-1740769200-1740776400@gracecommunity.org.au
SUMMARY:Grace Community Youth Term 1
DESCRIPTION:Join us on Friday nights from 7-9pm during the term if you’re in high school.  \nFor more information or to register go to Grace Community Youth.
URL:https://gracecommunity.org.au/event/grace-community-youth-term-1/2025-02-28/
LOCATION:Grace Community Church\, 5 Glenelg Pl\, Connolly\, WA\, 6027\, Australia
CATEGORIES:Youth Group
ATTACH;FMTTYPE=image/jpeg:https://gracecommunity.org.au/wp-content/uploads/2025/01/Gcy-term-1-2025.jpg
ORGANIZER;CN="Grace Community":MAILTO:admin@gracecommunity.org.au
END:VEVENT
END:VCALENDAR