BEGIN:VCALENDAR
VERSION:2.0
PRODID:-//Grace Community - ECPv6.15.20//NONSGML v1.0//EN
CALSCALE:GREGORIAN
METHOD:PUBLISH
X-WR-CALNAME:Grace Community
X-ORIGINAL-URL:https://gracecommunity.org.au
X-WR-CALDESC:Events for Grace Community
REFRESH-INTERVAL;VALUE=DURATION:PT1H
X-Robots-Tag:noindex
X-PUBLISHED-TTL:PT1H
BEGIN:VTIMEZONE
TZID:Australia/Perth
BEGIN:STANDARD
TZOFFSETFROM:+0800
TZOFFSETTO:+0800
TZNAME:AWST
DTSTART:20230101T000000
END:STANDARD
END:VTIMEZONE
BEGIN:VEVENT
DTSTART;TZID=Australia/Perth:20250321T190000
DTEND;TZID=Australia/Perth:20250321T210000
DTSTAMP:20260422T050231
CREATED:20250120T100157Z
LAST-MODIFIED:20250120T100810Z
UID:10000073-1742583600-1742590800@gracecommunity.org.au
SUMMARY:Grace Community Youth Term 1
DESCRIPTION:Join us on Friday nights from 7-9pm during the term if you’re in high school.  \nFor more information or to register go to Grace Community Youth.
URL:https://gracecommunity.org.au/event/grace-community-youth-term-1/2025-03-21/
LOCATION:Grace Community Church\, 5 Glenelg Pl\, Connolly\, WA\, 6027\, Australia
CATEGORIES:Youth Group
ATTACH;FMTTYPE=image/jpeg:https://gracecommunity.org.au/wp-content/uploads/2025/01/Gcy-term-1-2025.jpg
ORGANIZER;CN="Grace Community":MAILTO:admin@gracecommunity.org.au
END:VEVENT
BEGIN:VEVENT
DTSTART;TZID=Australia/Perth:20250317T190000
DTEND;TZID=Australia/Perth:20250321T210000
DTSTAMP:20260422T050231
CREATED:20250120T092704Z
LAST-MODIFIED:20250130T073100Z
UID:10000136-1742238000-1742590800@gracecommunity.org.au
SUMMARY:Home Groups
DESCRIPTION:Grow in scriptural knowledge\, wisdom and Christian maturity by studying God’s word together. Develop lasting friendships as we journey through life together as interdependent members of the body of Christ. \nFor more information and to register your interest in joining one of our home groups see our Home Groups page.
URL:https://gracecommunity.org.au/event/home-groups/2025-03-17/
LOCATION:WA
CATEGORIES:Home Groups
ATTACH;FMTTYPE=image/jpeg:https://gracecommunity.org.au/wp-content/uploads/2025/01/Home-Groups-banner-Facebook-Post.jpg
ORGANIZER;CN="Grace Community":MAILTO:admin@gracecommunity.org.au
END:VEVENT
BEGIN:VEVENT
DTSTART;TZID=Australia/Perth:20250310T190000
DTEND;TZID=Australia/Perth:20250314T210000
DTSTAMP:20260422T050231
CREATED:20250120T092704Z
LAST-MODIFIED:20250130T073100Z
UID:10000135-1741633200-1741986000@gracecommunity.org.au
SUMMARY:Home Groups
DESCRIPTION:Grow in scriptural knowledge\, wisdom and Christian maturity by studying God’s word together. Develop lasting friendships as we journey through life together as interdependent members of the body of Christ. \nFor more information and to register your interest in joining one of our home groups see our Home Groups page.
URL:https://gracecommunity.org.au/event/home-groups/2025-03-10/
LOCATION:WA
CATEGORIES:Home Groups
ATTACH;FMTTYPE=image/jpeg:https://gracecommunity.org.au/wp-content/uploads/2025/01/Home-Groups-banner-Facebook-Post.jpg
ORGANIZER;CN="Grace Community":MAILTO:admin@gracecommunity.org.au
END:VEVENT
BEGIN:VEVENT
DTSTART;TZID=Australia/Perth:20250307T190000
DTEND;TZID=Australia/Perth:20250307T210000
DTSTAMP:20260422T050231
CREATED:20250120T100157Z
LAST-MODIFIED:20250120T100810Z
UID:10000072-1741374000-1741381200@gracecommunity.org.au
SUMMARY:Grace Community Youth Term 1
DESCRIPTION:Join us on Friday nights from 7-9pm during the term if you’re in high school.  \nFor more information or to register go to Grace Community Youth.
URL:https://gracecommunity.org.au/event/grace-community-youth-term-1/2025-03-07/
LOCATION:Grace Community Church\, 5 Glenelg Pl\, Connolly\, WA\, 6027\, Australia
CATEGORIES:Youth Group
ATTACH;FMTTYPE=image/jpeg:https://gracecommunity.org.au/wp-content/uploads/2025/01/Gcy-term-1-2025.jpg
ORGANIZER;CN="Grace Community":MAILTO:admin@gracecommunity.org.au
END:VEVENT
BEGIN:VEVENT
DTSTART;TZID=Australia/Perth:20250303T190000
DTEND;TZID=Australia/Perth:20250307T210000
DTSTAMP:20260422T050231
CREATED:20250120T092704Z
LAST-MODIFIED:20250130T073100Z
UID:10000134-1741028400-1741381200@gracecommunity.org.au
SUMMARY:Home Groups
DESCRIPTION:Grow in scriptural knowledge\, wisdom and Christian maturity by studying God’s word together. Develop lasting friendships as we journey through life together as interdependent members of the body of Christ. \nFor more information and to register your interest in joining one of our home groups see our Home Groups page.
URL:https://gracecommunity.org.au/event/home-groups/2025-03-03/
LOCATION:WA
CATEGORIES:Home Groups
ATTACH;FMTTYPE=image/jpeg:https://gracecommunity.org.au/wp-content/uploads/2025/01/Home-Groups-banner-Facebook-Post.jpg
ORGANIZER;CN="Grace Community":MAILTO:admin@gracecommunity.org.au
END:VEVENT
BEGIN:VEVENT
DTSTART;TZID=Australia/Perth:20250228T190000
DTEND;TZID=Australia/Perth:20250228T210000
DTSTAMP:20260422T050231
CREATED:20250120T100157Z
LAST-MODIFIED:20250120T100810Z
UID:10000071-1740769200-1740776400@gracecommunity.org.au
SUMMARY:Grace Community Youth Term 1
DESCRIPTION:Join us on Friday nights from 7-9pm during the term if you’re in high school.  \nFor more information or to register go to Grace Community Youth.
URL:https://gracecommunity.org.au/event/grace-community-youth-term-1/2025-02-28/
LOCATION:Grace Community Church\, 5 Glenelg Pl\, Connolly\, WA\, 6027\, Australia
CATEGORIES:Youth Group
ATTACH;FMTTYPE=image/jpeg:https://gracecommunity.org.au/wp-content/uploads/2025/01/Gcy-term-1-2025.jpg
ORGANIZER;CN="Grace Community":MAILTO:admin@gracecommunity.org.au
END:VEVENT
BEGIN:VEVENT
DTSTART;TZID=Australia/Perth:20250224T190000
DTEND;TZID=Australia/Perth:20250228T210000
DTSTAMP:20260422T050231
CREATED:20250120T092704Z
LAST-MODIFIED:20250130T073100Z
UID:10000133-1740423600-1740776400@gracecommunity.org.au
SUMMARY:Home Groups
DESCRIPTION:Grow in scriptural knowledge\, wisdom and Christian maturity by studying God’s word together. Develop lasting friendships as we journey through life together as interdependent members of the body of Christ. \nFor more information and to register your interest in joining one of our home groups see our Home Groups page.
URL:https://gracecommunity.org.au/event/home-groups/2025-02-24/
LOCATION:WA
CATEGORIES:Home Groups
ATTACH;FMTTYPE=image/jpeg:https://gracecommunity.org.au/wp-content/uploads/2025/01/Home-Groups-banner-Facebook-Post.jpg
ORGANIZER;CN="Grace Community":MAILTO:admin@gracecommunity.org.au
END:VEVENT
BEGIN:VEVENT
DTSTART;TZID=Australia/Perth:20250221T190000
DTEND;TZID=Australia/Perth:20250221T210000
DTSTAMP:20260422T050231
CREATED:20250120T100157Z
LAST-MODIFIED:20250120T100810Z
UID:10000070-1740164400-1740171600@gracecommunity.org.au
SUMMARY:Grace Community Youth Term 1
DESCRIPTION:Join us on Friday nights from 7-9pm during the term if you’re in high school.  \nFor more information or to register go to Grace Community Youth.
URL:https://gracecommunity.org.au/event/grace-community-youth-term-1/2025-02-21/
LOCATION:Grace Community Church\, 5 Glenelg Pl\, Connolly\, WA\, 6027\, Australia
CATEGORIES:Youth Group
ATTACH;FMTTYPE=image/jpeg:https://gracecommunity.org.au/wp-content/uploads/2025/01/Gcy-term-1-2025.jpg
ORGANIZER;CN="Grace Community":MAILTO:admin@gracecommunity.org.au
END:VEVENT
BEGIN:VEVENT
DTSTART;TZID=Australia/Perth:20250217T190000
DTEND;TZID=Australia/Perth:20250221T210000
DTSTAMP:20260422T050231
CREATED:20250120T092704Z
LAST-MODIFIED:20250130T073100Z
UID:10000132-1739818800-1740171600@gracecommunity.org.au
SUMMARY:Home Groups
DESCRIPTION:Grow in scriptural knowledge\, wisdom and Christian maturity by studying God’s word together. Develop lasting friendships as we journey through life together as interdependent members of the body of Christ. \nFor more information and to register your interest in joining one of our home groups see our Home Groups page.
URL:https://gracecommunity.org.au/event/home-groups/2025-02-17/
LOCATION:WA
CATEGORIES:Home Groups
ATTACH;FMTTYPE=image/jpeg:https://gracecommunity.org.au/wp-content/uploads/2025/01/Home-Groups-banner-Facebook-Post.jpg
ORGANIZER;CN="Grace Community":MAILTO:admin@gracecommunity.org.au
END:VEVENT
BEGIN:VEVENT
DTSTART;TZID=Australia/Perth:20250210T190000
DTEND;TZID=Australia/Perth:20250214T210000
DTSTAMP:20260422T050231
CREATED:20250120T092704Z
LAST-MODIFIED:20250130T073100Z
UID:10000131-1739214000-1739566800@gracecommunity.org.au
SUMMARY:Home Groups
DESCRIPTION:Grow in scriptural knowledge\, wisdom and Christian maturity by studying God’s word together. Develop lasting friendships as we journey through life together as interdependent members of the body of Christ. \nFor more information and to register your interest in joining one of our home groups see our Home Groups page.
URL:https://gracecommunity.org.au/event/home-groups/2025-02-10/
LOCATION:WA
CATEGORIES:Home Groups
ATTACH;FMTTYPE=image/jpeg:https://gracecommunity.org.au/wp-content/uploads/2025/01/Home-Groups-banner-Facebook-Post.jpg
ORGANIZER;CN="Grace Community":MAILTO:admin@gracecommunity.org.au
END:VEVENT
BEGIN:VEVENT
DTSTART;TZID=Australia/Perth:20241011T190000
DTEND;TZID=Australia/Perth:20241011T203000
DTSTAMP:20260422T050231
CREATED:20241006T131454Z
LAST-MODIFIED:20241006T131454Z
UID:10000066-1728673200-1728678600@gracecommunity.org.au
SUMMARY:Grace Youth Bowling Night
DESCRIPTION:On Friday the 11th youth is back but we can’t have the hall so we’re going bowling.  \nJoin us at 7:00pm at iPlay in Whitfords Shopping Centre for 2 games of bowling. Cost is $15 per person.  \nPlease let us know that your coming by clicking on the ‘Going’ button. \nIf you’re high school aged you’re welcome to come. If it’s your first time attending Grace Youth please fill in the registration form here.
URL:https://gracecommunity.org.au/event/grace-youth-bowling-night/
LOCATION:iPlay\, Marmion Ave &\, Whitfords Ave\, Hillarys\, WA\, 6025\, Australia
ATTACH;FMTTYPE=image/png:https://gracecommunity.org.au/wp-content/uploads/2024/10/Bowling-gcy-social-Facebook-Post.png
ORGANIZER;CN="Grace Community":MAILTO:admin@gracecommunity.org.au
END:VEVENT
BEGIN:VEVENT
DTSTART;TZID=Australia/Perth:20240809T190000
DTEND;TZID=Australia/Perth:20240809T210000
DTSTAMP:20260422T050231
CREATED:20240731T145324Z
LAST-MODIFIED:20240805T003222Z
UID:10000064-1723230000-1723237200@gracecommunity.org.au
SUMMARY:Grace Community Youth Social Night Rock Climbing
DESCRIPTION:Ever wonder what it’s like to be a spider? Probably not\, but just in case why not join us as we rock climb (wall climb with plastic holds).  Grace Community Youth will be going rock climbing on August 9th from 7-9pm at RockFace in Balcatta (7B Ledgar Road Balcatta).\n \nCost is $15 for under 18s and $20 for over 18s.  Please register before August 7th. \nIf this will be your first time attending Grace Community Youth please register here. \n 
URL:https://gracecommunity.org.au/event/grace-community-youth-social-night-rock-climbing/
LOCATION:Oasis Climbing\, 2/26 Harris Rd\, Malaga\, WA\, 6090\, Australia
ATTACH;FMTTYPE=image/jpeg:https://gracecommunity.org.au/wp-content/uploads/2024/07/Copy-of-Newsletter-wide-1.jpg
ORGANIZER;CN="Grace Community":MAILTO:admin@gracecommunity.org.au
END:VEVENT
BEGIN:VEVENT
DTSTART;TZID=Australia/Perth:20240225T120000
DTEND;TZID=Australia/Perth:20240225T120000
DTSTAMP:20260422T050231
CREATED:20240208T090304Z
LAST-MODIFIED:20240219T150027Z
UID:10000060-1708862400-1708862400@gracecommunity.org.au
SUMMARY:Baptisms and Church Picnic
DESCRIPTION:Join us on Sunday Feb 25 immediately following our Sunday service (12:00pm) for baptisms at Mullaloo Beach\, followed by a picnic at Tom Simpson Park. Bring your own food/drinks\, picnic rug\, chairs\, etc and enjoy an afternoon of celebration as a church community. \n 
URL:https://gracecommunity.org.au/event/baptisms-and-church-picnic/
LOCATION:Mullaloo Beach\, Tom Simpson\, Mullaloo\, WA\, Australia
ATTACH;FMTTYPE=image/png:https://gracecommunity.org.au/wp-content/uploads/2024/02/Baptisms.png
ORGANIZER;CN="Grace Community":MAILTO:admin@gracecommunity.org.au
END:VEVENT
BEGIN:VEVENT
DTSTART;TZID=Australia/Perth:20240209T190000
DTEND;TZID=Australia/Perth:20240209T210000
DTSTAMP:20260422T050231
CREATED:20240131T135205Z
LAST-MODIFIED:20240131T140910Z
UID:10000059-1707505200-1707512400@gracecommunity.org.au
SUMMARY:Pool and Pizza Party
DESCRIPTION:We’re kicking off the year with a pool and pizza party for Grace Community Youth at the Macdonald’s on the 9th of Feb. If you’re in high school come along\, bring your bathers and your appetite and lets start the year off with some fun. (If you’re not keen on swimming\, that’s ok; we’ll have lots of other fun things to do!) \nMake sure you let us know you’re coming (click on ‘Going’) for catering purposes and if you have any food allergies or dietary requirements please let us know by emailing isaac@gracecommunity.org.au \nIf this is the first time you’ll be attending GCY\, please also go to https://gracecommunity.org.au/grace-community-youth/ to register your details.
URL:https://gracecommunity.org.au/event/pool-and-pizza-party/
LOCATION:Macdonald’s House\, Ormond Crt\, Woodvale\, Australia
CATEGORIES:Youth Group
ATTACH;FMTTYPE=image/png:https://gracecommunity.org.au/wp-content/uploads/2024/02/GCY-pool-party.png
ORGANIZER;CN="Grace Community":MAILTO:admin@gracecommunity.org.au
END:VEVENT
END:VCALENDAR